BEGIN:VCALENDAR
VERSION:2.0
PRODID:-//Torony Község Weboldala - ECPv6.15.16//NONSGML v1.0//EN
CALSCALE:GREGORIAN
METHOD:PUBLISH
X-ORIGINAL-URL:https://torony.hu
X-WR-CALDESC:Események Torony Község Weboldala
REFRESH-INTERVAL;VALUE=DURATION:PT1H
X-Robots-Tag:noindex
X-PUBLISHED-TTL:PT1H
BEGIN:VTIMEZONE
TZID:Europe/Budapest
BEGIN:DAYLIGHT
TZOFFSETFROM:+0100
TZOFFSETTO:+0200
TZNAME:CEST
DTSTART:20240331T010000
END:DAYLIGHT
BEGIN:STANDARD
TZOFFSETFROM:+0200
TZOFFSETTO:+0100
TZNAME:CET
DTSTART:20241027T010000
END:STANDARD
BEGIN:DAYLIGHT
TZOFFSETFROM:+0100
TZOFFSETTO:+0200
TZNAME:CEST
DTSTART:20250330T010000
END:DAYLIGHT
BEGIN:STANDARD
TZOFFSETFROM:+0200
TZOFFSETTO:+0100
TZNAME:CET
DTSTART:20251026T010000
END:STANDARD
BEGIN:DAYLIGHT
TZOFFSETFROM:+0100
TZOFFSETTO:+0200
TZNAME:CEST
DTSTART:20260329T010000
END:DAYLIGHT
BEGIN:STANDARD
TZOFFSETFROM:+0200
TZOFFSETTO:+0100
TZNAME:CET
DTSTART:20261025T010000
END:STANDARD
END:VTIMEZONE
BEGIN:VEVENT
DTSTART;TZID=Europe/Budapest:20251023T140000
DTEND;TZID=Europe/Budapest:20251023T140000
DTSTAMP:20260424T132211
CREATED:20251017T162418Z
LAST-MODIFIED:20251023T140458Z
UID:16962-1761228000-1761228000@torony.hu
SUMMARY:II. Ünnepeljünk méltón: 1956-os Forradalom és Szabadságharc Emléknapja.
DESCRIPTION:14 órától Mozi Klub: a Szerelmesfilm című mozgókép vetítése: A film 1970-ben bemutatott magyar játékfilm. Rendezője és forgatókönyvének írója Szabó István\, akinek ez volt első színes filmje.\nTörténete: Jancsi (Bálint András) és Kata (Halász Judit) szerelmének az 1956-os forradalom leverése vet véget: a lány disszidál\, a fiú marad.\nEmlékezzünk együtt a filmen keresztül! A film vetítése után koszorúzással zárjuk a megemlékezést.
URL:https://torony.hu/esemeny/ii-unnepeljunk-melton-1956-os-forradalom-es-szabadsagharc-emleknapja/
LOCATION:Toronyi Művelődési Ház és Könyvtár\, Felsőőri u. 47.\, Torony\, 9791\, HU
ATTACH;FMTTYPE=image/jpeg:https://torony.hu/wp-content/uploads/2025/10/16962_image_559522899_1265908515341444_7258520179276447799_n.jpg
END:VEVENT
END:VCALENDAR