BEGIN:VCALENDAR
VERSION:2.0
PRODID:-//Torony Község Weboldala - ECPv6.15.16//NONSGML v1.0//EN
CALSCALE:GREGORIAN
METHOD:PUBLISH
X-ORIGINAL-URL:https://torony.hu
X-WR-CALDESC:Események Torony Község Weboldala
REFRESH-INTERVAL;VALUE=DURATION:PT1H
X-Robots-Tag:noindex
X-PUBLISHED-TTL:PT1H
BEGIN:VTIMEZONE
TZID:UTC
BEGIN:STANDARD
TZOFFSETFROM:+0000
TZOFFSETTO:+0000
TZNAME:UTC
DTSTART:20240101T000000
END:STANDARD
END:VTIMEZONE
BEGIN:VEVENT
DTSTART;TZID=UTC:20251106T103000
DTEND;TZID=UTC:20251106T120000
DTSTAMP:20260424T114552
CREATED:20251022T112137Z
LAST-MODIFIED:20251022T112137Z
UID:17118-1762425000-1762430400@torony.hu
SUMMARY:Kormányablakbusz érkezik
DESCRIPTION:A Mobilizált Kormányablak Ügyfélszolgálaton az állampolgárok a kormányablakokban is elérhető ügyeket intézhetnek\, többek között személyi igazolvány\, vezetői engedély\, lakcímkártya\, útlevél\, hatósági eljárások megindítására szolgáló kérelmek benyújtása\, tájékoztatás kérés. \nKormányablak Buszra vonatkozó elérhetőségek\, az adatok az alábbiak: \nDátum \n2025. 11.06.  csütörtök 10:30-12 óra között \nHelyszín \nMűvelődési Ház\, Felsőőri u. 47. \nIntézhető ügyek köre: \n\nSzemélyazonosító igazolvánnyal kapcsolatos ügyintézés\nLakcímkártyával kapcsolatos ügyintézés\nVezetői engedéllyel (jogosítvánnyal) kapcsolatos ügyintézés\nParkolási igazolvánnyal kapcsolatos ügyintézés\nDiákigazolvány igényléséhez szükséges NEK adatlap felvétele\nÜgyfélkapu regisztráció\nTulajdoni lappal kapcsolatos ügyintézés\nMeghatalmazás illetve törvényes képviseleti jogosultság Elektronikus Egészségügyi Szolgáltatási Térben rögzítése\nErkölcsi bizonyítvány igénylésével kapcsolatos ügyindítás\nA biztosított személyek esetében Európai Egészségbiztosítási Kártya kiállítása\nA biztosított személyek esetében TAJ kártya másodlatának kiadása\nInformációszolgáltatás kormányablak és szociális igazgatási ügyekben valamint általános ügyekben\nszociális ügyekben kérelmek átvétele és továbbítása a hatáskörrel és illetékességgel rendelkező hatósághoz\n\n \n 
URL:https://torony.hu/esemeny/kormanyablakbusz-erkezik-2/
LOCATION:Toronyi Művelődési Ház és Könyvtár\, Felsőőri u. 47.\, Torony\, 9791\, HU
CATEGORIES:Kormányablakbusz
ATTACH;FMTTYPE=image/jpeg:https://torony.hu/wp-content/uploads/2025/03/kormanyablak.jpg
END:VEVENT
END:VCALENDAR