BEGIN:VCALENDAR
VERSION:2.0
PRODID:-//Torony Község Weboldala - ECPv6.15.16//NONSGML v1.0//EN
CALSCALE:GREGORIAN
METHOD:PUBLISH
X-ORIGINAL-URL:https://torony.hu
X-WR-CALDESC:Események Torony Község Weboldala
REFRESH-INTERVAL;VALUE=DURATION:PT1H
X-Robots-Tag:noindex
X-PUBLISHED-TTL:PT1H
BEGIN:VTIMEZONE
TZID:Europe/Budapest
BEGIN:DAYLIGHT
TZOFFSETFROM:+0100
TZOFFSETTO:+0200
TZNAME:CEST
DTSTART:20240331T010000
END:DAYLIGHT
BEGIN:STANDARD
TZOFFSETFROM:+0200
TZOFFSETTO:+0100
TZNAME:CET
DTSTART:20241027T010000
END:STANDARD
BEGIN:DAYLIGHT
TZOFFSETFROM:+0100
TZOFFSETTO:+0200
TZNAME:CEST
DTSTART:20250330T010000
END:DAYLIGHT
BEGIN:STANDARD
TZOFFSETFROM:+0200
TZOFFSETTO:+0100
TZNAME:CET
DTSTART:20251026T010000
END:STANDARD
BEGIN:DAYLIGHT
TZOFFSETFROM:+0100
TZOFFSETTO:+0200
TZNAME:CEST
DTSTART:20260329T010000
END:DAYLIGHT
BEGIN:STANDARD
TZOFFSETFROM:+0200
TZOFFSETTO:+0100
TZNAME:CET
DTSTART:20261025T010000
END:STANDARD
END:VTIMEZONE
BEGIN:VEVENT
DTSTART;TZID=Europe/Budapest:20251122T160000
DTEND;TZID=Europe/Budapest:20251122T190000
DTSTAMP:20260424T114640
CREATED:20251103T140506Z
LAST-MODIFIED:20251122T170451Z
UID:17444-1763827200-1763838000@torony.hu
SUMMARY:Natúr Harmónia - Kozma Jucus kiállítása
DESCRIPTION:Szeretettel várunk minden kedves érdeklődőt Kozma Jucus munkáiból nyíló\, Natúr Harmónia című kiállítására. Az alkotó a természet szerelmese\, számára egyfajta terápia mind az erdőjárás\, mind a festés\, melyet néhány éve kezdett gyakorolni. Nem tartja magát művésznek\, de szereti megörökíteni a maga köré varázsolt harmóniát és még jobb\, ha ezzel másoknak is örömet okoz.\nProgram:\n16:00 Kövi Szabolcs koncertje\n17:00 A kiállítást megnyitja Büki László fotóriporter- főszerkesztő\, vaskarika.hu\nA belépés díjtalan!\nA kiállítás megtekinthető 2025. december 14-ig\, naponta 16:00 és 18:00 óra között.
URL:https://torony.hu/esemeny/natur-harmonia-kozma-jucus-kiallitasa/
LOCATION:Toronyi Művelődési Ház és Könyvtár\, Felsőőri u. 47.\, Torony\, 9791\, HU
ATTACH;FMTTYPE=image/jpeg:https://torony.hu/wp-content/uploads/2025/11/17444_image_574581188_1283494783582817_3143036702041426289_n.jpg
END:VEVENT
END:VCALENDAR