BEGIN:VCALENDAR
VERSION:2.0
PRODID:-//Torony Község Weboldala - ECPv6.15.16//NONSGML v1.0//EN
CALSCALE:GREGORIAN
METHOD:PUBLISH
X-WR-CALNAME:Torony Község Weboldala
X-ORIGINAL-URL:https://torony.hu
X-WR-CALDESC:Események Torony Község Weboldala
REFRESH-INTERVAL;VALUE=DURATION:PT1H
X-Robots-Tag:noindex
X-PUBLISHED-TTL:PT1H
BEGIN:VTIMEZONE
TZID:Europe/Budapest
BEGIN:DAYLIGHT
TZOFFSETFROM:+0100
TZOFFSETTO:+0200
TZNAME:CEST
DTSTART:20240331T010000
END:DAYLIGHT
BEGIN:STANDARD
TZOFFSETFROM:+0200
TZOFFSETTO:+0100
TZNAME:CET
DTSTART:20241027T010000
END:STANDARD
BEGIN:DAYLIGHT
TZOFFSETFROM:+0100
TZOFFSETTO:+0200
TZNAME:CEST
DTSTART:20250330T010000
END:DAYLIGHT
BEGIN:STANDARD
TZOFFSETFROM:+0200
TZOFFSETTO:+0100
TZNAME:CET
DTSTART:20251026T010000
END:STANDARD
BEGIN:DAYLIGHT
TZOFFSETFROM:+0100
TZOFFSETTO:+0200
TZNAME:CEST
DTSTART:20260329T010000
END:DAYLIGHT
BEGIN:STANDARD
TZOFFSETFROM:+0200
TZOFFSETTO:+0100
TZNAME:CET
DTSTART:20261025T010000
END:STANDARD
END:VTIMEZONE
BEGIN:VEVENT
DTSTART;TZID=Europe/Budapest:20251130T140000
DTEND;TZID=Europe/Budapest:20251130T140000
DTSTAMP:20260424T113715
CREATED:20251119T080444Z
LAST-MODIFIED:20251130T150503Z
UID:17867-1764511200-1764511200@torony.hu
SUMMARY:Adventi kézműves délután és mozi
DESCRIPTION:Ünnepi kézműves foglalkozás kicsiknek-nagyoknak. 16:00 órától a Nagykarácsony című filmet vetítjük a Karankó galériában. A végén gyertyagyújtás a művelődési ház előtti téren.
URL:https://torony.hu/esemeny/adventi-kezmuves-delutan-es-mozi/
LOCATION:Toronyi Művelődési Ház és Könyvtár\, Felsőőri u. 47.\, Torony\, 9791\, HU
ATTACH;FMTTYPE=image/jpeg:https://torony.hu/wp-content/uploads/2025/11/17867_image_586558063_1296254635640165_8078750147148931292_n.jpg
END:VEVENT
END:VCALENDAR