BEGIN:VCALENDAR
VERSION:2.0
PRODID:-//Torony Község Weboldala - ECPv6.15.16//NONSGML v1.0//EN
CALSCALE:GREGORIAN
METHOD:PUBLISH
X-WR-CALNAME:Torony Község Weboldala
X-ORIGINAL-URL:https://torony.hu
X-WR-CALDESC:Események Torony Község Weboldala
REFRESH-INTERVAL;VALUE=DURATION:PT1H
X-Robots-Tag:noindex
X-PUBLISHED-TTL:PT1H
BEGIN:VTIMEZONE
TZID:UTC
BEGIN:STANDARD
TZOFFSETFROM:+0000
TZOFFSETTO:+0000
TZNAME:UTC
DTSTART:20250101T000000
END:STANDARD
END:VTIMEZONE
BEGIN:VTIMEZONE
TZID:Europe/Budapest
BEGIN:DAYLIGHT
TZOFFSETFROM:+0100
TZOFFSETTO:+0200
TZNAME:CEST
DTSTART:20250330T010000
END:DAYLIGHT
BEGIN:STANDARD
TZOFFSETFROM:+0200
TZOFFSETTO:+0100
TZNAME:CET
DTSTART:20251026T010000
END:STANDARD
BEGIN:DAYLIGHT
TZOFFSETFROM:+0100
TZOFFSETTO:+0200
TZNAME:CEST
DTSTART:20260329T010000
END:DAYLIGHT
BEGIN:STANDARD
TZOFFSETFROM:+0200
TZOFFSETTO:+0100
TZNAME:CET
DTSTART:20261025T010000
END:STANDARD
BEGIN:DAYLIGHT
TZOFFSETFROM:+0100
TZOFFSETTO:+0200
TZNAME:CEST
DTSTART:20270328T010000
END:DAYLIGHT
BEGIN:STANDARD
TZOFFSETFROM:+0200
TZOFFSETTO:+0100
TZNAME:CET
DTSTART:20271031T010000
END:STANDARD
END:VTIMEZONE
BEGIN:VEVENT
DTSTART;VALUE=DATE:20260216
DTEND;VALUE=DATE:20260217
DTSTAMP:20260421T135627
CREATED:20251218T120321Z
LAST-MODIFIED:20251218T130245Z
UID:18704-1771200000-1771286399@torony.hu
SUMMARY:Szelektív hulladékszállítás
DESCRIPTION:Az STKH Sopron és Térsége Környezetvédelmi és Hulladékgazdálkodási Nonprofit Kft. közlése szerint február 16-án\, hétfőn lesz Toronyban az aktuális hónapban esedékes szelektívhulladék-gyűjtési nap. \nEzen a napon a szelektív módon gyűjtött hulladékkal teljesen megtöltött zsákokat bekötve\, vagy az erre a célra rendszeresített gyűjtőedényt\, reggel 5 óráig kell kihelyezni a házak elé.
URL:https://torony.hu/esemeny/szelektiv-hulladekszallitas-8-3/
LOCATION:Torony (település)\, Torony\, 9791\, HU
CATEGORIES:Hulladékszállítás
ATTACH;FMTTYPE=image/jpeg:https://torony.hu/wp-content/uploads/2025/02/szelektiv-hulladekgyujtes.jpg
END:VEVENT
BEGIN:VEVENT
DTSTART;TZID=Europe/Budapest:20260216T180000
DTEND;TZID=Europe/Budapest:20260216T180000
DTSTAMP:20260421T135627
CREATED:20260209T170508Z
LAST-MODIFIED:20260216T190444Z
UID:20419-1771264800-1771264800@torony.hu
SUMMARY:Toronyi férfikör
DESCRIPTION:Férfitársaim!\nEgy támogató férfikörbe hívlak titeket!\nHa úgy érzed\, egyedül maradtál a nehézségeiddel.\nPárkapcsolati elakadásod van\nRégóta nincs párkapcsolatod\nNehezen értesz szót a gyerekeiddel\nKiégtél a munkádban vagy nem találod a hivatásod.\nSok a stressz és felelősség az életedben.\nMegoldhatatlannak tűnő kihívásokkal küzdessz.\nVárunk téged egy ítélkezés mentes\, elfogadó férfikörben\,\nahol\, végre nem kell egymással versengenünk.\nMegtapasztalhatod\, hogy soha nem vagy egyedül.\nMások is hasonló nehézségekkel küzdenek\, és a csoport támogatásával túl juthatsz az akár legyőzhetetlennek tűnő akadályokon is.\nMinden hónap utolsó hétfőjén.\nKövetkező időpont: 2026.02.16. hétfő 18-20 óráig\nHelyszín: Torony\, Művelődési Központ\nCsoportvezető: Czenky Sándor\nHa kérdésed van\, küld el a cesa@zotu.hu címre.
URL:https://torony.hu/esemeny/toronyi-ferfikor-7/
ATTACH;FMTTYPE=image/jpeg:https://torony.hu/wp-content/uploads/2026/02/20419_image_631699559_1358569926075302_3762031142057465405_n.jpg
END:VEVENT
END:VCALENDAR