BEGIN:VCALENDAR
VERSION:2.0
PRODID:-//Torony Község Weboldala - ECPv6.15.16//NONSGML v1.0//EN
CALSCALE:GREGORIAN
METHOD:PUBLISH
X-WR-CALNAME:Torony Község Weboldala
X-ORIGINAL-URL:https://torony.hu
X-WR-CALDESC:Események Torony Község Weboldala
REFRESH-INTERVAL;VALUE=DURATION:PT1H
X-Robots-Tag:noindex
X-PUBLISHED-TTL:PT1H
BEGIN:VTIMEZONE
TZID:Europe/Budapest
BEGIN:DAYLIGHT
TZOFFSETFROM:+0100
TZOFFSETTO:+0200
TZNAME:CEST
DTSTART:20250330T010000
END:DAYLIGHT
BEGIN:STANDARD
TZOFFSETFROM:+0200
TZOFFSETTO:+0100
TZNAME:CET
DTSTART:20251026T010000
END:STANDARD
BEGIN:DAYLIGHT
TZOFFSETFROM:+0100
TZOFFSETTO:+0200
TZNAME:CEST
DTSTART:20260329T010000
END:DAYLIGHT
BEGIN:STANDARD
TZOFFSETFROM:+0200
TZOFFSETTO:+0100
TZNAME:CET
DTSTART:20261025T010000
END:STANDARD
BEGIN:DAYLIGHT
TZOFFSETFROM:+0100
TZOFFSETTO:+0200
TZNAME:CEST
DTSTART:20270328T010000
END:DAYLIGHT
BEGIN:STANDARD
TZOFFSETFROM:+0200
TZOFFSETTO:+0100
TZNAME:CET
DTSTART:20271031T010000
END:STANDARD
END:VTIMEZONE
BEGIN:VEVENT
DTSTART;TZID=Europe/Budapest:20260328T180000
DTEND;TZID=Europe/Budapest:20260328T180000
DTSTAMP:20260420T192859
CREATED:20260311T090501Z
LAST-MODIFIED:20260328T190447Z
UID:21238-1774720800-1774720800@torony.hu
SUMMARY:2. Baa Rózsa Emlékkoncert és Népzenei Fesztivál
DESCRIPTION:Baa Rózsa öröksége tovább él –\na hagyományok továbbadása nemcsak kötelesség\, hanem öröm és megtiszteltetés\nis.\nFellépők:\nKislajbi énekegyüttes • Szélforgók zenekar • Csalogányok énekegyüttes\nKoprive zenekar • Boglya zenekar\nCimbaliband Bognár Szilviával \nIdőpont: 2026. március 28. (szombat) 18:00\nHelyszín: Sportcsarnok\, 9791 Torony\, Petőfi u. 2.\nJegyár: 4200 Ft\nElővétel és foglalás: muvhaz.torony@gmail.com\nA jegyek előre utalással biztosíthatók\,\nvagy e-mailes foglalással a helyszínen\, készpénzes fizetéssel vehetők át.\nJegyek elővételben az önkormányzatnál is vásárolhatók. Hétfőtől- csütörtökig 09:00 órától 15:00 óráig. Természetesen a helyszínen is váltható belépő.\nEgy este\, ahol múlt és jelen együtt muzsikál.
URL:https://torony.hu/esemeny/2-baa-rozsa-emlekkoncert-es-nepzenei-fesztival/
LOCATION:Sportcsarnok Torony
ATTACH;FMTTYPE=image/jpeg:https://torony.hu/wp-content/uploads/2026/03/21238_image_650828537_1382942986971329_8039993832720567639_n.jpg
END:VEVENT
END:VCALENDAR