BEGIN:VCALENDAR
VERSION:2.0
PRODID:-//Torony Község Weboldala - ECPv6.15.16//NONSGML v1.0//EN
CALSCALE:GREGORIAN
METHOD:PUBLISH
X-WR-CALNAME:Torony Község Weboldala
X-ORIGINAL-URL:https://torony.hu
X-WR-CALDESC:Események Torony Község Weboldala
REFRESH-INTERVAL;VALUE=DURATION:PT1H
X-Robots-Tag:noindex
X-PUBLISHED-TTL:PT1H
BEGIN:VTIMEZONE
TZID:Europe/Budapest
BEGIN:DAYLIGHT
TZOFFSETFROM:+0100
TZOFFSETTO:+0200
TZNAME:CEST
DTSTART:20250330T010000
END:DAYLIGHT
BEGIN:STANDARD
TZOFFSETFROM:+0200
TZOFFSETTO:+0100
TZNAME:CET
DTSTART:20251026T010000
END:STANDARD
BEGIN:DAYLIGHT
TZOFFSETFROM:+0100
TZOFFSETTO:+0200
TZNAME:CEST
DTSTART:20260329T010000
END:DAYLIGHT
BEGIN:STANDARD
TZOFFSETFROM:+0200
TZOFFSETTO:+0100
TZNAME:CET
DTSTART:20261025T010000
END:STANDARD
BEGIN:DAYLIGHT
TZOFFSETFROM:+0100
TZOFFSETTO:+0200
TZNAME:CEST
DTSTART:20270328T010000
END:DAYLIGHT
BEGIN:STANDARD
TZOFFSETFROM:+0200
TZOFFSETTO:+0100
TZNAME:CET
DTSTART:20271031T010000
END:STANDARD
END:VTIMEZONE
BEGIN:VEVENT
DTSTART;TZID=Europe/Budapest:20260406T100000
DTEND;TZID=Europe/Budapest:20260406T100000
DTSTAMP:20260420T173313
CREATED:20260327T070500Z
LAST-MODIFIED:20260406T100453Z
UID:21691-1775469600-1775469600@torony.hu
SUMMARY:Tojáskeresés
DESCRIPTION:🌸🐣 Húsvéti kalandra fel! 🐰🌷 \nA Baa Rózsa Közösségi Színtér szeretettel várja a 3 és 10 év közötti gyerekeket egy vidám tojáskereső délelőttre! \nLesz itt minden\, ami egy igazi húsvéti küldetéshez kell:\n🥚 izgalmas tojásvadászat\n🥪 sonkás mini falatok\n🍵 meleg tea\n🍫 csoki nyuszik a legbátrabb felfedezőknek \nGyere\, és hozd magaddal a jókedvedet is – a tojások már elbújtak\, csak rád várnak! 🐇✨
URL:https://torony.hu/esemeny/tojaskereses/
LOCATION:Toronyi Művelődési Ház és Könyvtár\, Felsőőri u. 47.\, Torony\, 9791\, HU
ATTACH;FMTTYPE=image/jpeg:https://torony.hu/wp-content/uploads/2026/03/21691_image_657046296_1396066442325650_2543044497281589777_n.jpg
END:VEVENT
END:VCALENDAR