BEGIN:VCALENDAR
VERSION:2.0
PRODID:-//Torony Község Weboldala - ECPv6.15.16//NONSGML v1.0//EN
CALSCALE:GREGORIAN
METHOD:PUBLISH
X-WR-CALNAME:Torony Község Weboldala
X-ORIGINAL-URL:https://torony.hu
X-WR-CALDESC:Események Torony Község Weboldala
REFRESH-INTERVAL;VALUE=DURATION:PT1H
X-Robots-Tag:noindex
X-PUBLISHED-TTL:PT1H
BEGIN:VTIMEZONE
TZID:UTC
BEGIN:STANDARD
TZOFFSETFROM:+0000
TZOFFSETTO:+0000
TZNAME:UTC
DTSTART:20240101T000000
END:STANDARD
END:VTIMEZONE
BEGIN:VEVENT
DTSTART;TZID=UTC:20250808T120000
DTEND;TZID=UTC:20250808T180000
DTSTAMP:20260424T144431
CREATED:20250526T144705Z
LAST-MODIFIED:20250526T144705Z
UID:14680-1754654400-1754676000@torony.hu
SUMMARY:Elektromos és elektronikai hulladékgyűjtés
DESCRIPTION:2025. augusztus 8-án (péntek)12-18 óráig\, és 9-én (szombat) 8-12 óráig az önkormányzati szolgálati lakás udvarán (Torony\, Réffy u. 1.) lehet elhelyezni az elektromos hulladékot \nElszállításra kerülnek: \n\nHáztartási gépek (kis- és nagyberendezések): hűtő\, mosógép\, mosogatógép\, kisgépek\, lámpatestek (darálók\, robotgépek\, kávéfőzők\,stb.)\nSzámítógépek\, telefonok\, egyéb irodatechnikai berendezések: számítógépek\, monitorok\, asztali telefon\, nyomtatók\, fénymásolók\, modemek\, ezek alkatrészei\, pl. panelek\, stb.\nSzórakoztató elektronikai cikkek: rádió\, TV\, lejátszók\, rádió\, stb.\nElektromos és elektronikus barkácsgépek\, szerszámok: pl. fúrógép\, ütvefúró\, sarokcsiszoló\, stb.\nElektromos Hulladék továbbá még minden olyan berendezés\, ami elektromos árammal működött\, valamit ezekből származó elektromos alkatrészek\, gáztűzhely\, fém\n\nKérjük\, hogy a bontott hiányos készülékeket (pl.: képcső nélküli televízió\, monitor szétszedett hűtő)\, valamint a festékpatronokat ne rakják le. \nTorony\, 2025. május 26. \nTorony Község Önkormányzata
URL:https://torony.hu/esemeny/elektromos-es-elektronikai-hulladekgyujtes/
LOCATION:Torony\, Réffy u. 1.\, Réffy u. 1.\, Torony\, Vas vármegye\, 9791\, Hungary
CATEGORIES:Hulladékszállítás
ATTACH;FMTTYPE=image/jpeg:https://torony.hu/wp-content/uploads/2024/07/elektronikai-hulladek.jpg
END:VEVENT
BEGIN:VEVENT
DTSTART;TZID=UTC:20250809T080000
DTEND;TZID=UTC:20250809T120000
DTSTAMP:20260424T144431
CREATED:20250526T144832Z
LAST-MODIFIED:20250526T145247Z
UID:14683-1754726400-1754740800@torony.hu
SUMMARY:Elektromos és elektronikai hulladékgyűjtés
DESCRIPTION:2025. augusztus 8-án (péntek)12-18 óráig\, és 9-én (szombat) 8-12 óráig az önkormányzati szolgálati lakás udvarán (Torony\, Réffy u. 1.) lehet elhelyezni az elektromos hulladékot \nElszállításra kerülnek: \n\nHáztartási gépek (kis- és nagyberendezések): hűtő\, mosógép\, mosogatógép\, kisgépek\, lámpatestek (darálók\, robotgépek\, kávéfőzők\,stb.)\nSzámítógépek\, telefonok\, egyéb irodatechnikai berendezések: számítógépek\, monitorok\, asztali telefon\, nyomtatók\, fénymásolók\, modemek\, ezek alkatrészei\, pl. panelek\, stb.\nSzórakoztató elektronikai cikkek: rádió\, TV\, lejátszók\, rádió\, stb.\nElektromos és elektronikus barkácsgépek\, szerszámok: pl. fúrógép\, ütvefúró\, sarokcsiszoló\, stb.\nElektromos Hulladék továbbá még minden olyan berendezés\, ami elektromos árammal működött\, valamit ezekből származó elektromos alkatrészek\, gáztűzhely\, fém\n\nKérjük\, hogy a bontott hiányos készülékeket (pl.: képcső nélküli televízió\, monitor szétszedett hűtő)\, valamint a festékpatronokat ne rakják le. \nTorony\, 2025. május 26. \nTorony Község Önkormányzata
URL:https://torony.hu/esemeny/elektromos-es-elektronikai-hulladekgyujtes-2/
LOCATION:Torony\, Réffy u. 1.\, Réffy u. 1.\, Torony\, Vas vármegye\, 9791\, Hungary
CATEGORIES:Hulladékszállítás
ATTACH;FMTTYPE=image/jpeg:https://torony.hu/wp-content/uploads/2024/07/elektronikai-hulladek.jpg
END:VEVENT
BEGIN:VEVENT
DTSTART;VALUE=DATE:20250811
DTEND;VALUE=DATE:20250812
DTSTAMP:20260424T144431
CREATED:20250526T145206Z
LAST-MODIFIED:20250526T145206Z
UID:14685-1754870400-1754956799@torony.hu
SUMMARY:Lomtalanítás
DESCRIPTION:Az STKH Sopron és Térsége Környezetvédelmi és Hulladékgazdálkodási Nonprofit Kft. értesíti a Tisztelt Lakosságot\, hogy az idei évben is valamennyi – vegyes hulladékgyűjtésre kötelezett és bevont – lakossági ügyfele részére biztosítja a lomhulladék összegyűjtését és elszállítását.\nTorony település közigazgatási területén az éves lomtalanítás időpontja és formája: \n2025. augusztus 11. (hétfő) – közterületi házhoz menő \nLomtalanítás során kihelyezhető hulladékok: a közszolgáltatás keretében rendszeresített gyűjtőedény méreteit meghaladó nagydarabos háztartási lomhulladék. (EWC 20 03 07) Például:\nkanapé\, ágy\, ágybetét\, szekrény\, fotel\, szék\, szőnyeg\, kerti bútort stb. A nagyméretű lomokat (pl.: ágy\, szekrény\, ülőgarnitúra) szétszedett állapotban kell kihelyezni úgy\, hogy az kézi erővel könnyen mozgatható legyen. Az elszállításra kerülő lomhulladék kizárólag lakossági eredetű lehet!\nA lom hulladékokat a meghirdetett gyűjtés első napján 6.00-tól\, az ingatlanok előtti\, szállítójárművel megközelíthető közterületről folyamatosan szállítjuk el. A hulladék mennyiségétől függően ez akár több napot is igénybe vehet. Egy adott utcában a már befejezett gyűjtés után kihelyezett lomhulladékot nem áll módunkban elszállítani. \nAz alábbi hulladékokat NEM vesszük át! \n\nzöldhulladék (pl.: kerti hulladék\, nyesedék)\,\nszelektív hulladék (pl.: sárga és kék zsákban gyűjthető hulladékok)\,\nállati tetem\,\ngazdálkodói-vállalkozói tevékenységből származó hulladék\,\nautóbontásból származó autó alkatrész (pl.: kárpit\, szélvédő\, lökhárító stb.)\,\népítési-bontási hulladék (pl.: mosdókagyló\, csempe\, WC csésze\, ablak\, ajtó\, üveg\, síküveg\,\ntükör stb.)\nszóródó-\, lapátos-\, zsákos hulladék (pl.: Inert\, kommunális)\,\nszemély-\, teher-\, traktor gumiabroncs\,\nveszélyes hulladék (pl.: vegyi anyaggal szennyezett göngyöleg\, permetezőszer\, maradék festék\, festékes göngyöleg\, akkumulátor\, neoncső\, azbeszt\, gyógyszer\, fáradt olaj stb.)\,\nelektronikai hulladék (pl.: selejtes hűtő\, televízió\, háztartási gép)\,\nfém hulladék (pl.: hordó\, ereszcsatorna\, drótkerítés\, csövek stb.)\,\nkézi erővel nem rakodható túlsúlyos\, vagy túlméretes hulladék.\n\nA felsorolás nem teljes\, csak az általánosan előforduló hulladékokat tartalmazza. A háztartásokban keletkező veszélyes\, illetve egyéb\, különleges kezelést igénylő hulladékok átvételével kapcsolatban\, ajánljuk figyelmükbe Hulladékudvarainkat\, melyek működéséről honlapunkon\, a \n„SZOLGÁLTATÁSAINK-Hulladékudvarok üzemeltetése” menüpont alatt találnak részletes tájékoztatást. \nTisztelettel kérjük Önöket\, hogy lakókörnyezetük tisztaságának megőrzése érdekében a tájékoztatóban foglaltakat szíveskedjenek betartani! Kollégáinknak a szabálytalanul kihelyezett hulladékok átvételét\, kivétel nélkül vissza kell utasítaniuk. Amennyiben fenyegetve érzik magukat\,\nelhagyhatják\, veszélyesnek ítélt szituációkban kötelesek azonnal elhagyni a helyszínt! Ilyen esetekben lomtalanítás már csak a következő évre vehető igénybe. \n  \nEgyüttműködésüket és megértésüket köszönjük! \nSTKH Sopron és Térsége\nKörnyezetvédelmi és Hulladékgazdálkodási Nonprofit Kft.
URL:https://torony.hu/esemeny/lomtalanitas/
LOCATION:Torony (település)\, Torony\, 9791\, HU
CATEGORIES:Hulladékszállítás
ATTACH;FMTTYPE=image/jpeg:https://torony.hu/wp-content/uploads/2025/05/2d457e340ced4e718e00ab0b78f19da7.jpg
END:VEVENT
BEGIN:VEVENT
DTSTART;TZID=UTC:20250811T043000
DTEND;TZID=UTC:20250811T170000
DTSTAMP:20260424T144431
CREATED:20250630T112410Z
LAST-MODIFIED:20250630T112410Z
UID:15725-1754886600-1754931600@torony.hu
SUMMARY:Szelektív hulladékszállítás
DESCRIPTION:Az STKH Sopron és Térsége Környezetvédelmi és Hulladékgazdálkodási Nonprofit Kft. közlése szerint augusztus 11-én\, hétfőn lesz Toronyban az aktuális hónapban esedékes szelektívhulladék-gyűjtési nap. \nEzen a napon a szelektív módon gyűjtött hulladékkal teljesen megtöltött zsákokat bekötve\, vagy az erre a célra rendszeresített gyűjtőedényt\, reggel 5 óráig kell kihelyezni a házak elé.
URL:https://torony.hu/esemeny/szelektiv-hulladekszallitas-4-3/
LOCATION:Torony (település)\, Torony\, 9791\, HU
CATEGORIES:Hulladékszállítás
ATTACH;FMTTYPE=image/jpeg:https://torony.hu/wp-content/uploads/2025/02/szelektiv-hulladekgyujtes.jpg
END:VEVENT
BEGIN:VEVENT
DTSTART;TZID=UTC:20250825T043000
DTEND;TZID=UTC:20250825T170000
DTSTAMP:20260424T144431
CREATED:20250630T114200Z
LAST-MODIFIED:20250630T114200Z
UID:15745-1756096200-1756141200@torony.hu
SUMMARY:Zöldhulladék gyűjtés
DESCRIPTION:Zöldhulladék gyűjtésbe tartozó anyagok: Az ingatlanoknál keletkező falevél\, fűnyesedék\, gyom. A gyűjtés részleteiről\, valamint a kihelyezhető hulladékok pontos listájáról bővebb információt a www.stkh.hu weboldalon\, a „Zöldhulladék-gyűjtés” menüpont alatt tekinthetik meg.
URL:https://torony.hu/esemeny/zoldhulladek-gyujtes-2/
LOCATION:Torony (település)\, Torony\, 9791\, HU
CATEGORIES:Hulladékszállítás
ATTACH;FMTTYPE=image/jpeg:https://torony.hu/wp-content/uploads/2025/06/Zoldhulladek-szallitas.jpg
END:VEVENT
END:VCALENDAR