BEGIN:VCALENDAR
VERSION:2.0
PRODID:-//Torony Község Weboldala - ECPv6.15.16//NONSGML v1.0//EN
CALSCALE:GREGORIAN
METHOD:PUBLISH
X-ORIGINAL-URL:https://torony.hu
X-WR-CALDESC:Események Torony Község Weboldala
REFRESH-INTERVAL;VALUE=DURATION:PT1H
X-Robots-Tag:noindex
X-PUBLISHED-TTL:PT1H
BEGIN:VTIMEZONE
TZID:UTC
BEGIN:STANDARD
TZOFFSETFROM:+0000
TZOFFSETTO:+0000
TZNAME:UTC
DTSTART:20240101T000000
END:STANDARD
END:VTIMEZONE
BEGIN:VTIMEZONE
TZID:Europe/Budapest
BEGIN:DAYLIGHT
TZOFFSETFROM:+0100
TZOFFSETTO:+0200
TZNAME:CEST
DTSTART:20240331T010000
END:DAYLIGHT
BEGIN:STANDARD
TZOFFSETFROM:+0200
TZOFFSETTO:+0100
TZNAME:CET
DTSTART:20241027T010000
END:STANDARD
BEGIN:DAYLIGHT
TZOFFSETFROM:+0100
TZOFFSETTO:+0200
TZNAME:CEST
DTSTART:20250330T010000
END:DAYLIGHT
BEGIN:STANDARD
TZOFFSETFROM:+0200
TZOFFSETTO:+0100
TZNAME:CET
DTSTART:20251026T010000
END:STANDARD
BEGIN:DAYLIGHT
TZOFFSETFROM:+0100
TZOFFSETTO:+0200
TZNAME:CEST
DTSTART:20260329T010000
END:DAYLIGHT
BEGIN:STANDARD
TZOFFSETFROM:+0200
TZOFFSETTO:+0100
TZNAME:CET
DTSTART:20261025T010000
END:STANDARD
END:VTIMEZONE
BEGIN:VEVENT
DTSTART;TZID=UTC:20250912T100000
DTEND;TZID=UTC:20250912T210000
DTSTAMP:20260424T131716
CREATED:20250903T115934Z
LAST-MODIFIED:20250903T120859Z
UID:16564-1757671200-1757710800@torony.hu
SUMMARY:Avarégetés
DESCRIPTION:Tisztelt Lakosság!\n  \n2025. április 1-jei hatállyal módosult az avar és kerti hulladék nyílttéri égetéséről szóló önkormányzati rendelet. \nEnnek értelmében április 1-jétől havonta két alkalommal: minden hónap második és utlosó péntekjén 10:00-21:00 között engedélyezett az avar és kerti hulladék égetése. \n  \nJúnius\, július\, augusztus hónapokban továbbra is tilos az avar és kerti hulladék égetése. \n  \nA fentiek alapján a következő hónapokban az alábbi időpontokban végezhető avar és kerti hulladék égetés. \n♻️ Égetési napok 2025 szeptemberétől:\n\n\n\n\n\nHónap\nMásodik péntek\nUtolsó péntek\n\n\n\n\nSzeptember\nszeptember 12.\nszeptember 26.\n\n\nOktóber\noktóber 10.\noktóber 31.\n\n\nNovember\nnovember 14.\nnovember 28.\n\n\nDecember\ndecember 12.\ndecember 26.  Karácsony másnapja\n\n\n2026 Január\njanuár 9.\njanuár 30.\n\n\nFebruár\nfebruár 13.\nfebruár 27.\n\n\nMárcius\nmárcius 13.\nmárcius 27.\n\n\nÁprilis\náprilis 10.\náprilis 24.\n\n\nMájus\nmájus 8.\nmájus 29.\n\n\n\n\n\nAz engedélyezett időpontokon kívül végzett égetés tilos és súlyos bírságot vonhat maga után. \n  \nFelhívjuk a lakosság figyelmét\, hogy az avar és kerti hulladékon kívül minden más kommunális\, ipari eredetű\, illetve veszélyes hulladék égetése szigorúan tilos!  \n  \nTisztelettel: \n  \nSzabó Zsolt\npolgármester
URL:https://torony.hu/esemeny/avaregetes-2-3-2/
LOCATION:Torony (település)\, Torony\, 9791\, HU
CATEGORIES:Avarégetés
ATTACH;FMTTYPE=image/jpeg:https://torony.hu/wp-content/uploads/2025/04/avaregetes.jpg
END:VEVENT
BEGIN:VEVENT
DTSTART;TZID=Europe/Budapest:20250913T080000
DTEND;TZID=Europe/Budapest:20250913T080000
DTSTAMP:20260424T131716
CREATED:20250720T130443Z
LAST-MODIFIED:20250912T093839Z
UID:16388-1757750400-1757750400@torony.hu
SUMMARY:Mária Búcsú és Toronyi Kenyérünnep
DESCRIPTION:08:00 – II. Pizza Calcio Kupa – kispályás labdarúgó vetélkedő\n08:30 – Főzőverseny (bográcsos ételek)\n15:00 – Szász Ilona: Violin király és Hanga királykisasszony – Joós Tamás zenés-bábos mesejátéka\n15:50 – Akrobatikus rock and roll – Galaxy RRC gyermek táncosainak bemutatója\n16:00 – Habparti gyerekeknek\nKözben: salsa táncbemutató és a Rain\, Wind & Bells Country Linedance Táncklub bemutatója\n16:30 – Savaria Rézfúvós Együttes vidám komolyzenei produkciója\n17:30 – Hivatalos megnyitó\, kenyérszentelés\n18:00 – Estebédhez szól a rock – a főzőverseny remekeinek kóstolása közben játszik az ANCTARCTICA\n19:15 – Tombola I. rész\n20:00 – „Égi jel” – Omega dalok az örökkévalóságnak\nMistral Band – élő koncert\nA teljes egészében élő műsorban kiváló előadók és zenészek közreműködésével az Omega együttes tizennyolc legismertebb dala csendül fel\, magas minőségben\, eredeti hangszerelésben.\nAz előadás a 2005-ös élő koncertsorozat dalai közül válogat.\nHallható lesz többek között: Gammapolis\, Ezüst eső\, Napot hoztam\, Régi csibészek\, Fekete pillangó\, Petróleumlámpa\, Gyöngyhajú lány stb.\nFellépők: Hertelendy Zénó\, Szokodi Zoltán\, Tóth Dániel (ének)\, Frua-Gerencsér Fruzsina (ének-vokál)\n21:00 – Tombola II. rész\n(A tombola bevételét a ravatalozó felújítására fordítjuk.)\n21:30 – 02:00 – Dancing Duó bál \nA rendezvény ideje alatt:\nIngyenes programok: íjászat\, arcfestés\, élő csocsó\, tűzoltóautó\, darts\, foci\nKöltségtérítéses programok: búcsúsok\, körhinták\, kisvonat\, popcorn\, vattacukor\, horgászat\, ugrálóvárak \nHelyszín: Toronyi Sportpálya \nA rendezvény minőségi lebonyolítása érdekében a Kossuth utcát egyirányúsítjuk. 21:00 óráig az Újvári utca felől lehet megközelíteni.\nKérjük a helyi lakosokat\, hogy – amennyiben tehetik – gépjármű nélkül látogassák a rendezvényt! \nMegértésüket köszönjük!
URL:https://torony.hu/esemeny/maria-bucsu-es-toronyi-kenyerunnep/
LOCATION:Toronyi Sportpálya
ATTACH;FMTTYPE=image/jpeg:https://torony.hu/wp-content/uploads/2025/07/16388_image_519924633_1196939715571658_8439002480069360874_n.jpg
END:VEVENT
BEGIN:VEVENT
DTSTART;TZID=UTC:20250915T043000
DTEND;TZID=UTC:20250915T170000
DTSTAMP:20260424T131716
CREATED:20250630T112558Z
LAST-MODIFIED:20250630T112558Z
UID:15726-1757910600-1757955600@torony.hu
SUMMARY:Szelektív hulladékszállítás
DESCRIPTION:Az STKH Sopron és Térsége Környezetvédelmi és Hulladékgazdálkodási Nonprofit Kft. közlése szerint szeptember 15-én\, hétfőn lesz Toronyban az aktuális hónapban esedékes szelektívhulladék-gyűjtési nap. \nEzen a napon a szelektív módon gyűjtött hulladékkal teljesen megtöltött zsákokat bekötve\, vagy az erre a célra rendszeresített gyűjtőedényt\, reggel 5 óráig kell kihelyezni a házak elé.
URL:https://torony.hu/esemeny/szelektiv-hulladekszallitas-4-4/
LOCATION:Torony (település)\, Torony\, 9791\, HU
CATEGORIES:Hulladékszállítás
ATTACH;FMTTYPE=image/jpeg:https://torony.hu/wp-content/uploads/2025/02/szelektiv-hulladekgyujtes.jpg
END:VEVENT
BEGIN:VEVENT
DTSTART;TZID=UTC:20250922T040000
DTEND;TZID=UTC:20250922T170000
DTSTAMP:20260424T131716
CREATED:20250630T114310Z
LAST-MODIFIED:20250630T114310Z
UID:15746-1758513600-1758560400@torony.hu
SUMMARY:Zöldhulladék gyűjtés
DESCRIPTION:Zöldhulladék gyűjtésbe tartozó anyagok: Az ingatlanoknál keletkező falevél\, fűnyesedék\, gyom. A gyűjtés részleteiről\, valamint a kihelyezhető hulladékok pontos listájáról bővebb információt a www.stkh.hu weboldalon\, a „Zöldhulladék-gyűjtés” menüpont alatt tekinthetik meg.
URL:https://torony.hu/esemeny/zoldhulladek-gyujtes-3/
LOCATION:Torony (település)\, Torony\, 9791\, HU
CATEGORIES:Hulladékszállítás
ATTACH;FMTTYPE=image/jpeg:https://torony.hu/wp-content/uploads/2025/06/Zoldhulladek-szallitas.jpg
END:VEVENT
BEGIN:VEVENT
DTSTART;TZID=UTC:20250926T100000
DTEND;TZID=UTC:20250926T210000
DTSTAMP:20260424T131716
CREATED:20250903T120748Z
LAST-MODIFIED:20250903T120748Z
UID:16575-1758880800-1758920400@torony.hu
SUMMARY:Avarégetés
DESCRIPTION:Tisztelt Lakosság!\n  \n2025. április 1-jei hatállyal módosult az avar és kerti hulladék nyílttéri égetéséről szóló önkormányzati rendelet. \nEnnek értelmében április 1-jétől havonta két alkalommal: minden hónap második és utlosó péntekjén 10:00-21:00 között engedélyezett az avar és kerti hulladék égetése. \n  \nJúnius\, július\, augusztus hónapokban továbbra is tilos az avar és kerti hulladék égetése. \n  \nA fentiek alapján a következő hónapokban az alábbi időpontokban végezhető avar és kerti hulladék égetés. \n♻️ Égetési napok 2025 szeptemberétől:\n\n\n\n\n\nHónap\nMásodik péntek\nUtolsó péntek\n\n\n\n\nSzeptember\nszeptember 12.\nszeptember 26.\n\n\nOktóber\noktóber 10.\noktóber 31.\n\n\nNovember\nnovember 14.\nnovember 28.\n\n\nDecember\ndecember 12.\ndecember 26.  Karácsony másnapja\n\n\n2026 Január\njanuár 9.\njanuár 30.\n\n\nFebruár\nfebruár 13.\nfebruár 27.\n\n\nMárcius\nmárcius 13.\nmárcius 27.\n\n\nÁprilis\náprilis 10.\náprilis 24.\n\n\nMájus\nmájus 8.\nmájus 29.\n\n\n\n\n\nAz engedélyezett időpontokon kívül végzett égetés tilos és súlyos bírságot vonhat maga után. \n  \nFelhívjuk a lakosság figyelmét\, hogy az avar és kerti hulladékon kívül minden más kommunális\, ipari eredetű\, illetve veszélyes hulladék égetése szigorúan tilos!  \n  \nTisztelettel: \n  \nSzabó Zsolt\npolgármester
URL:https://torony.hu/esemeny/avaregetes-4/
LOCATION:Torony (település)\, Torony\, 9791\, HU
CATEGORIES:Avarégetés
ATTACH;FMTTYPE=image/jpeg:https://torony.hu/wp-content/uploads/2025/04/avaregetes.jpg
END:VEVENT
END:VCALENDAR