BEGIN:VCALENDAR
VERSION:2.0
PRODID:-//Torony Község Weboldala - ECPv6.15.16//NONSGML v1.0//EN
CALSCALE:GREGORIAN
METHOD:PUBLISH
X-ORIGINAL-URL:https://torony.hu
X-WR-CALDESC:Események Torony Község Weboldala
REFRESH-INTERVAL;VALUE=DURATION:PT1H
X-Robots-Tag:noindex
X-PUBLISHED-TTL:PT1H
BEGIN:VTIMEZONE
TZID:UTC
BEGIN:STANDARD
TZOFFSETFROM:+0000
TZOFFSETTO:+0000
TZNAME:UTC
DTSTART:20240101T000000
END:STANDARD
END:VTIMEZONE
BEGIN:VTIMEZONE
TZID:Europe/Budapest
BEGIN:DAYLIGHT
TZOFFSETFROM:+0100
TZOFFSETTO:+0200
TZNAME:CEST
DTSTART:20240331T010000
END:DAYLIGHT
BEGIN:STANDARD
TZOFFSETFROM:+0200
TZOFFSETTO:+0100
TZNAME:CET
DTSTART:20241027T010000
END:STANDARD
BEGIN:DAYLIGHT
TZOFFSETFROM:+0100
TZOFFSETTO:+0200
TZNAME:CEST
DTSTART:20250330T010000
END:DAYLIGHT
BEGIN:STANDARD
TZOFFSETFROM:+0200
TZOFFSETTO:+0100
TZNAME:CET
DTSTART:20251026T010000
END:STANDARD
BEGIN:DAYLIGHT
TZOFFSETFROM:+0100
TZOFFSETTO:+0200
TZNAME:CEST
DTSTART:20260329T010000
END:DAYLIGHT
BEGIN:STANDARD
TZOFFSETFROM:+0200
TZOFFSETTO:+0100
TZNAME:CET
DTSTART:20261025T010000
END:STANDARD
END:VTIMEZONE
BEGIN:VEVENT
DTSTART;TZID=UTC:20251010T100000
DTEND;TZID=UTC:20251010T210000
DTSTAMP:20260424T114639
CREATED:20250903T121053Z
LAST-MODIFIED:20250903T121053Z
UID:16576-1760090400-1760130000@torony.hu
SUMMARY:Avarégetés
DESCRIPTION:Tisztelt Lakosság!\n  \n2025. április 1-jei hatállyal módosult az avar és kerti hulladék nyílttéri égetéséről szóló önkormányzati rendelet. \nEnnek értelmében április 1-jétől havonta két alkalommal: minden hónap második és utlosó péntekjén 10:00-21:00 között engedélyezett az avar és kerti hulladék égetése. \n  \nJúnius\, július\, augusztus hónapokban továbbra is tilos az avar és kerti hulladék égetése. \n  \nA fentiek alapján a következő hónapokban az alábbi időpontokban végezhető avar és kerti hulladék égetés. \n♻️ Égetési napok 2025 szeptemberétől:\n\n\n\n\n\nHónap\nMásodik péntek\nUtolsó péntek\n\n\n\n\nSzeptember\nszeptember 12.\nszeptember 26.\n\n\nOktóber\noktóber 10.\noktóber 31.\n\n\nNovember\nnovember 14.\nnovember 28.\n\n\nDecember\ndecember 12.\ndecember 26.  Karácsony másnapja\n\n\n2026 Január\njanuár 9.\njanuár 30.\n\n\nFebruár\nfebruár 13.\nfebruár 27.\n\n\nMárcius\nmárcius 13.\nmárcius 27.\n\n\nÁprilis\náprilis 10.\náprilis 24.\n\n\nMájus\nmájus 8.\nmájus 29.\n\n\n\n\n\nAz engedélyezett időpontokon kívül végzett égetés tilos és súlyos bírságot vonhat maga után. \n  \nFelhívjuk a lakosság figyelmét\, hogy az avar és kerti hulladékon kívül minden más kommunális\, ipari eredetű\, illetve veszélyes hulladék égetése szigorúan tilos!  \n  \nTisztelettel: \n  \nSzabó Zsolt\npolgármester
URL:https://torony.hu/esemeny/avaregetes-5/
LOCATION:Torony (település)\, Torony\, 9791\, HU
CATEGORIES:Avarégetés
ATTACH;FMTTYPE=image/jpeg:https://torony.hu/wp-content/uploads/2025/04/avaregetes.jpg
END:VEVENT
BEGIN:VEVENT
DTSTART;TZID=UTC:20251013T043000
DTEND;TZID=UTC:20251013T170000
DTSTAMP:20260424T114639
CREATED:20250630T112746Z
LAST-MODIFIED:20250630T112746Z
UID:15727-1760329800-1760374800@torony.hu
SUMMARY:Szelektív hulladékszállítás
DESCRIPTION:Az STKH Sopron és Térsége Környezetvédelmi és Hulladékgazdálkodási Nonprofit Kft. közlése szerint október 13-án\, hétfőn lesz Toronyban az aktuális hónapban esedékes szelektívhulladék-gyűjtési nap. \nEzen a napon a szelektív módon gyűjtött hulladékkal teljesen megtöltött zsákokat bekötve\, vagy az erre a célra rendszeresített gyűjtőedényt\, reggel 5 óráig kell kihelyezni a házak elé.
URL:https://torony.hu/esemeny/szelektiv-hulladekszallitas-6/
LOCATION:Torony (település)\, Torony\, 9791\, HU
CATEGORIES:Hulladékszállítás
ATTACH;FMTTYPE=image/jpeg:https://torony.hu/wp-content/uploads/2025/02/szelektiv-hulladekgyujtes.jpg
END:VEVENT
BEGIN:VEVENT
DTSTART;TZID=UTC:20251020T043000
DTEND;TZID=UTC:20251020T170000
DTSTAMP:20260424T114639
CREATED:20250630T114644Z
LAST-MODIFIED:20250630T114644Z
UID:15747-1760934600-1760979600@torony.hu
SUMMARY:Zöldhulladék gyűjtés
DESCRIPTION:Zöldhulladék gyűjtésbe tartozó anyagok: Az ingatlanoknál keletkező falevél\, fűnyesedék\, gyom. A gyűjtés részleteiről\, valamint a kihelyezhető hulladékok pontos listájáról bővebb információt a www.stkh.hu weboldalon\, a „Zöldhulladék-gyűjtés” menüpont alatt tekinthetik meg.
URL:https://torony.hu/esemeny/zoldhulladek-gyujtes-4/
LOCATION:Torony (település)\, Torony\, 9791\, HU
CATEGORIES:Hulladékszállítás
ATTACH;FMTTYPE=image/jpeg:https://torony.hu/wp-content/uploads/2025/06/Zoldhulladek-szallitas.jpg
END:VEVENT
BEGIN:VEVENT
DTSTART;TZID=Europe/Budapest:20251023T140000
DTEND;TZID=Europe/Budapest:20251023T140000
DTSTAMP:20260424T114639
CREATED:20251017T162418Z
LAST-MODIFIED:20251023T140458Z
UID:16962-1761228000-1761228000@torony.hu
SUMMARY:II. Ünnepeljünk méltón: 1956-os Forradalom és Szabadságharc Emléknapja.
DESCRIPTION:14 órától Mozi Klub: a Szerelmesfilm című mozgókép vetítése: A film 1970-ben bemutatott magyar játékfilm. Rendezője és forgatókönyvének írója Szabó István\, akinek ez volt első színes filmje.\nTörténete: Jancsi (Bálint András) és Kata (Halász Judit) szerelmének az 1956-os forradalom leverése vet véget: a lány disszidál\, a fiú marad.\nEmlékezzünk együtt a filmen keresztül! A film vetítése után koszorúzással zárjuk a megemlékezést.
URL:https://torony.hu/esemeny/ii-unnepeljunk-melton-1956-os-forradalom-es-szabadsagharc-emleknapja/
LOCATION:Toronyi Művelődési Ház és Könyvtár\, Felsőőri u. 47.\, Torony\, 9791\, HU
ATTACH;FMTTYPE=image/jpeg:https://torony.hu/wp-content/uploads/2025/10/16962_image_559522899_1265908515341444_7258520179276447799_n.jpg
END:VEVENT
BEGIN:VEVENT
DTSTART;TZID=Europe/Budapest:20251025T160000
DTEND;TZID=Europe/Budapest:20251025T160000
DTSTAMP:20260424T114639
CREATED:20251017T162418Z
LAST-MODIFIED:20251025T160527Z
UID:16960-1761408000-1761408000@torony.hu
SUMMARY:KARAKÜRT koncert
DESCRIPTION:A Karakürt formációt Vörösmarti Imre\, a Vazul Vére rockopera zeneszerzője és felesége\, Anikó alkotja – egy különleges zenei világot teremtve\, mely a neofolk-ambient műfajának egyedi\, varázslatos áramlásait ötvözi.\n A dalokban az időtlen szerelem\, regék\, a férfi és nő szövetségének ereje és a kelet-nyugat közötti egyensúly jelenik meg – mindez egy új\, modern hagyományban gyökerezve.\nÚjra Torony!\nHálás szívvel indulunk útnak újra Toronyba. A nevenincs tátos regéjét visszük ez alkalommal\, amelyet a Bogáti Tátos című dal inspirált. Egy árva fiú egyedül maradván a katonák elől egy rejtelmes erdőbe menekül\, hol őrzők nevelik fel. Így teljesíti be sorsát\, s lesz tátossá\, kinek e világon neve nincs\, mert otthona az ég.\nA koncert után Imre vezetésével egy közös dobolásra hívunk.\nA koncertjeinken elérhető Cd\, pendrive\, póló.\nHelyszín: Művelődési ház Torony\, Felsőőri u. 47\, 9791.\nIdőpont: 2025.10.25. 16.00 óra.\nA teljes program maximum 3 óra.\nBELÉPŐ: 2000Ft\nSzeretettel és örömmel várunk!
URL:https://torony.hu/esemeny/karakurt-koncert/
LOCATION:Toronyi Művelődési Ház és Könyvtár\, Felsőőri u. 47.\, Torony\, 9791\, HU
ATTACH;FMTTYPE=image/jpeg:https://torony.hu/wp-content/uploads/2025/10/16960_image_550602613_1247349907197305_8860031997309469_n.jpg
END:VEVENT
BEGIN:VEVENT
DTSTART;TZID=Europe/Budapest:20251027T180000
DTEND;TZID=Europe/Budapest:20251027T180000
DTSTAMP:20260424T114639
CREATED:20251020T070459Z
LAST-MODIFIED:20251027T190444Z
UID:17035-1761588000-1761588000@torony.hu
SUMMARY:Férfikör
DESCRIPTION:Férfitársaim!\nEgy támogató férfikörbe hívlak titeket!\nHa úgy érzed\, egyedül maradtál a nehézségeiddel.\nPárkapcsolati elakadásod van\nRégóta nincs párkapcsolatod\nNehezen értesz szót a gyerekeiddel\nKiégtél a munkádban vagy nem találod a hivatásod.\nSok a stressz és felelősség az életedben.\nMegoldhatatlannak tűnő kihívásokkal küzdessz.\nVárunk téged egy ítélkezés mentes\, elfogadó férfikörben\,\nahol\, végre nem kell egymással versengenünk.\nMegtapasztalhatod\, hogy soha nem vagy egyedül.\nMások is hasonló nehézségekkel küzdenek\, és a csoport támogatásával túl juthatsz az akár legyőzhetetlennek tűnő akadályokon is.\nMinden hónap utolsó hétfőjén.\nKövetkező időpont: 2025.10.27. hétfő 18-20 óráig\nHelyszín: Torony\, Művelődési Központ\nCsoportvezető: Czenky Sándor\nHa kérdésed van\, küld el a cesa@zotu.hu címre.
URL:https://torony.hu/esemeny/ferfikor-2/
LOCATION:Toronyi Művelődési Ház és Könyvtár\, Felsőőri u. 47.\, Torony\, 9791\, HU
ATTACH;FMTTYPE=image/jpeg:https://torony.hu/wp-content/uploads/2025/10/17035_image_562342772_1271505524781743_5057192872243027844_n.jpg
END:VEVENT
BEGIN:VEVENT
DTSTART;TZID=UTC:20251031T100000
DTEND;TZID=UTC:20251031T210000
DTSTAMP:20260424T114639
CREATED:20250903T122439Z
LAST-MODIFIED:20250903T122439Z
UID:16577-1761904800-1761944400@torony.hu
SUMMARY:Avarégetés
DESCRIPTION:Tisztelt Lakosság!\n  \n2025. április 1-jei hatállyal módosult az avar és kerti hulladék nyílttéri égetéséről szóló önkormányzati rendelet. \nEnnek értelmében április 1-jétől havonta két alkalommal: minden hónap második és utlosó péntekjén 10:00-21:00 között engedélyezett az avar és kerti hulladék égetése. \n  \nJúnius\, július\, augusztus hónapokban továbbra is tilos az avar és kerti hulladék égetése. \n  \nA fentiek alapján a következő hónapokban az alábbi időpontokban végezhető avar és kerti hulladék égetés. \n♻️ Égetési napok 2025 szeptemberétől:\n\n\n\n\n\nHónap\nMásodik péntek\nUtolsó péntek\n\n\n\n\nSzeptember\nszeptember 12.\nszeptember 26.\n\n\nOktóber\noktóber 10.\noktóber 31.\n\n\nNovember\nnovember 14.\nnovember 28.\n\n\nDecember\ndecember 12.\ndecember 26.  Karácsony másnapja\n\n\n2026 Január\njanuár 9.\njanuár 30.\n\n\nFebruár\nfebruár 13.\nfebruár 27.\n\n\nMárcius\nmárcius 13.\nmárcius 27.\n\n\nÁprilis\náprilis 10.\náprilis 24.\n\n\nMájus\nmájus 8.\nmájus 29.\n\n\n\n\n\nAz engedélyezett időpontokon kívül végzett égetés tilos és súlyos bírságot vonhat maga után. \n  \nFelhívjuk a lakosság figyelmét\, hogy az avar és kerti hulladékon kívül minden más kommunális\, ipari eredetű\, illetve veszélyes hulladék égetése szigorúan tilos!  \n  \nTisztelettel: \n  \nSzabó Zsolt\npolgármester
URL:https://torony.hu/esemeny/avaregetes-6/
LOCATION:Torony (település)\, Torony\, 9791\, HU
CATEGORIES:Avarégetés
ATTACH;FMTTYPE=image/jpeg:https://torony.hu/wp-content/uploads/2025/04/avaregetes.jpg
END:VEVENT
END:VCALENDAR