BEGIN:VCALENDAR
VERSION:2.0
PRODID:-//Torony Község Weboldala - ECPv6.15.16//NONSGML v1.0//EN
CALSCALE:GREGORIAN
METHOD:PUBLISH
X-WR-CALNAME:Torony Község Weboldala
X-ORIGINAL-URL:https://torony.hu
X-WR-CALDESC:Események Torony Község Weboldala
REFRESH-INTERVAL;VALUE=DURATION:PT1H
X-Robots-Tag:noindex
X-PUBLISHED-TTL:PT1H
BEGIN:VTIMEZONE
TZID:Europe/Budapest
BEGIN:DAYLIGHT
TZOFFSETFROM:+0100
TZOFFSETTO:+0200
TZNAME:CEST
DTSTART:20240331T010000
END:DAYLIGHT
BEGIN:STANDARD
TZOFFSETFROM:+0200
TZOFFSETTO:+0100
TZNAME:CET
DTSTART:20241027T010000
END:STANDARD
BEGIN:DAYLIGHT
TZOFFSETFROM:+0100
TZOFFSETTO:+0200
TZNAME:CEST
DTSTART:20250330T010000
END:DAYLIGHT
BEGIN:STANDARD
TZOFFSETFROM:+0200
TZOFFSETTO:+0100
TZNAME:CET
DTSTART:20251026T010000
END:STANDARD
BEGIN:DAYLIGHT
TZOFFSETFROM:+0100
TZOFFSETTO:+0200
TZNAME:CEST
DTSTART:20260329T010000
END:DAYLIGHT
BEGIN:STANDARD
TZOFFSETFROM:+0200
TZOFFSETTO:+0100
TZNAME:CET
DTSTART:20261025T010000
END:STANDARD
END:VTIMEZONE
BEGIN:VTIMEZONE
TZID:UTC
BEGIN:STANDARD
TZOFFSETFROM:+0000
TZOFFSETTO:+0000
TZNAME:UTC
DTSTART:20240101T000000
END:STANDARD
END:VTIMEZONE
BEGIN:VEVENT
DTSTART;TZID=Europe/Budapest:20251205T170000
DTEND;TZID=Europe/Budapest:20251205T170000
DTSTAMP:20260424T082913
CREATED:20251117T080445Z
LAST-MODIFIED:20251205T180518Z
UID:17813-1764954000-1764954000@torony.hu
SUMMARY:Mikulás váró
DESCRIPTION:A toronyi művelődési házban 17 órai kezdettel várjuk a Mikulást. Idén a lenti kis könyvtárban berendezett Mikulás-kuckóban személyesen is lehet vele beszélgetni és fotózkodni. Frédi bácsi bábjátéka gondoskodik a megfelelő hangulatról.
URL:https://torony.hu/esemeny/mikulas-varo-2/
LOCATION:Toronyi Művelődési Ház és Könyvtár\, Felsőőri u. 47.\, Torony\, 9791\, HU
ATTACH;FMTTYPE=image/jpeg:https://torony.hu/wp-content/uploads/2025/11/17813_image_583243082_1294729742459321_7966115843637115209_n.jpg
END:VEVENT
BEGIN:VEVENT
DTSTART;TZID=UTC:20251212T100000
DTEND;TZID=UTC:20251212T210000
DTSTAMP:20260424T082913
CREATED:20250903T122857Z
LAST-MODIFIED:20250903T122857Z
UID:16580-1765533600-1765573200@torony.hu
SUMMARY:Avarégetés
DESCRIPTION:Tisztelt Lakosság!\n  \n2025. április 1-jei hatállyal módosult az avar és kerti hulladék nyílttéri égetéséről szóló önkormányzati rendelet. \nEnnek értelmében április 1-jétől havonta két alkalommal: minden hónap második és utlosó péntekjén 10:00-21:00 között engedélyezett az avar és kerti hulladék égetése. \n  \nJúnius\, július\, augusztus hónapokban továbbra is tilos az avar és kerti hulladék égetése. \n  \nA fentiek alapján a következő hónapokban az alábbi időpontokban végezhető avar és kerti hulladék égetés. \n♻️ Égetési napok 2025 szeptemberétől:\n\n\n\n\n\nHónap\nMásodik péntek\nUtolsó péntek\n\n\n\n\nSzeptember\nszeptember 12.\nszeptember 26.\n\n\nOktóber\noktóber 10.\noktóber 31.\n\n\nNovember\nnovember 14.\nnovember 28.\n\n\nDecember\ndecember 12.\ndecember 26.  Karácsony másnapja\n\n\n2026 Január\njanuár 9.\njanuár 30.\n\n\nFebruár\nfebruár 13.\nfebruár 27.\n\n\nMárcius\nmárcius 13.\nmárcius 27.\n\n\nÁprilis\náprilis 10.\náprilis 24.\n\n\nMájus\nmájus 8.\nmájus 29.\n\n\n\n\n\nAz engedélyezett időpontokon kívül végzett égetés tilos és súlyos bírságot vonhat maga után. \n  \nFelhívjuk a lakosság figyelmét\, hogy az avar és kerti hulladékon kívül minden más kommunális\, ipari eredetű\, illetve veszélyes hulladék égetése szigorúan tilos!  \n  \nTisztelettel: \n  \nSzabó Zsolt\npolgármester
URL:https://torony.hu/esemeny/avaregetes-9/
LOCATION:Torony (település)\, Torony\, 9791\, HU
CATEGORIES:Avarégetés
ATTACH;FMTTYPE=image/jpeg:https://torony.hu/wp-content/uploads/2025/04/avaregetes.jpg
END:VEVENT
BEGIN:VEVENT
DTSTART;TZID=Europe/Budapest:20251218T163000
DTEND;TZID=Europe/Budapest:20251218T163000
DTSTAMP:20260424T082913
CREATED:20251205T110455Z
LAST-MODIFIED:20251218T180448Z
UID:18316-1766075400-1766075400@torony.hu
SUMMARY:Mindenki karácsonya
DESCRIPTION:2025. december 18-án (csütörtök)16:30 órai kezdettel atoronyi sportcsarnokban.\nFellép:\nToronyi Csicsergő Óvoda óvodásai\nToronyi Gazdag Gyula Általános Iskola diákjai\nBatyi Fusion\nForralt bor\, tea és sütemény várja a közönséget.
URL:https://torony.hu/esemeny/mindenki-karacsonya/
ATTACH;FMTTYPE=image/jpeg:https://torony.hu/wp-content/uploads/2025/12/18316_image_595913299_1308256604439968_4137891302492475910_n.jpg
END:VEVENT
BEGIN:VEVENT
DTSTART;TZID=Europe/Budapest:20251222T180000
DTEND;TZID=Europe/Budapest:20251222T180000
DTSTAMP:20260424T082913
CREATED:20251216T090450Z
LAST-MODIFIED:20251222T190514Z
UID:18628-1766426400-1766426400@torony.hu
SUMMARY:Toronyi Férfikör
DESCRIPTION:Férfitársaim!\nEgy támogató férfikörbe hívlak titeket!\nHa úgy érzed\, egyedül maradtál a nehézségeiddel.\nPárkapcsolati elakadásod van\nRégóta nincs párkapcsolatod\nNehezen értesz szót a gyerekeiddel\nKiégtél a munkádban vagy nem találod a hivatásod.\nSok a stressz és felelősség az életedben.\nMegoldhatatlannak tűnő kihívásokkal küzdessz.\nVárunk téged egy ítélkezés mentes\, elfogadó férfikörben\,\nahol\, végre nem kell egymással versengenünk.\nMegtapasztalhatod\, hogy soha nem vagy egyedül.\nMások is hasonló nehézségekkel küzdenek\, és a csoport támogatásával túl juthatsz az akár legyőzhetetlennek tűnő akadályokon is.\nMinden hónap utolsó hétfőjén.\nKövetkező időpont: 2025.12.22. hétfő 18-20 óráig\nHelyszín: Torony\, Művelődési Központ\nCsoportvezető: Czenky Sándor\nHa kérdésed van\, küld el a cesa@zotu.hu címre.
URL:https://torony.hu/esemeny/toronyi-ferfikor-5/
ATTACH;FMTTYPE=image/jpeg:https://torony.hu/wp-content/uploads/2025/12/18628_image_598715508_1316144046984557_3401322667958889649_n.jpg
END:VEVENT
BEGIN:VEVENT
DTSTART;TZID=Europe/Budapest:20251229T080000
DTEND;TZID=Europe/Budapest:20251229T080000
DTSTAMP:20260424T082913
CREATED:20251125T120503Z
LAST-MODIFIED:20251229T090454Z
UID:18047-1766995200-1766995200@torony.hu
SUMMARY:Szilveszter Kupa
DESCRIPTION:Helyszín: Torony\, Sportcsarnok Mérkőzések: 1×15 perc\nNevezés: 10.000 Ft / csapat\nNevezés: muvhaz.torony@gmail\nKérdés estén hívható telefon sz.: +36706565035\nMaximum 15 csapat nevezését tudjuk elfogadni\nDecember 20-ig várjuk a jelentkezéseket. A sorsolásról e-mailben értesítjük a csapatokat.
URL:https://torony.hu/esemeny/szilveszter-kupa/
ATTACH;FMTTYPE=image/jpeg:https://torony.hu/wp-content/uploads/2025/11/18047_image_588712626_1300999425165686_7981621431268011744_n.jpg
END:VEVENT
END:VCALENDAR