BEGIN:VCALENDAR
VERSION:2.0
PRODID:-//Torony Község Weboldala - ECPv6.15.16//NONSGML v1.0//EN
CALSCALE:GREGORIAN
METHOD:PUBLISH
X-ORIGINAL-URL:https://torony.hu
X-WR-CALDESC:Események Torony Község Weboldala
REFRESH-INTERVAL;VALUE=DURATION:PT1H
X-Robots-Tag:noindex
X-PUBLISHED-TTL:PT1H
BEGIN:VTIMEZONE
TZID:UTC
BEGIN:STANDARD
TZOFFSETFROM:+0000
TZOFFSETTO:+0000
TZNAME:UTC
DTSTART:20250101T000000
END:STANDARD
END:VTIMEZONE
BEGIN:VEVENT
DTSTART;VALUE=DATE:20260615
DTEND;VALUE=DATE:20260616
DTSTAMP:20260421T040550
CREATED:20251218T132707Z
LAST-MODIFIED:20251218T132707Z
UID:18859-1781481600-1781567999@torony.hu
SUMMARY:Zöldhulladék gyűjtés
DESCRIPTION:Zöldhulladék gyűjtésbe tartozó anyagok: Az ingatlanoknál keletkező falevél\, fűnyesedék\, gyom. A gyűjtés részleteiről\, valamint a kihelyezhető hulladékok pontos listájáról bővebb információt a www.stkh.hu weboldalon\, a „Zöldhulladék-gyűjtés” menüpont alatt tekinthetik meg.
URL:https://torony.hu/esemeny/zoldhulladek-gyujtes-10/
LOCATION:Torony (település)\, Torony\, 9791\, HU
CATEGORIES:Hulladékszállítás
ATTACH;FMTTYPE=image/jpeg:https://torony.hu/wp-content/uploads/2025/06/Zoldhulladek-szallitas.jpg
END:VEVENT
BEGIN:VEVENT
DTSTART;VALUE=DATE:20260713
DTEND;VALUE=DATE:20260714
DTSTAMP:20260421T040550
CREATED:20251218T123504Z
LAST-MODIFIED:20251218T130114Z
UID:18748-1783900800-1783987199@torony.hu
SUMMARY:Szelektív hulladékszállítás
DESCRIPTION:Az STKH Sopron és Térsége Környezetvédelmi és Hulladékgazdálkodási Nonprofit Kft. közlése szerint július 13-án\, hétfőn lesz Toronyban az aktuális hónapban esedékes szelektívhulladék-gyűjtési nap. \nEzen a napon a szelektív módon gyűjtött hulladékkal teljesen megtöltött zsákokat bekötve\, vagy az erre a célra rendszeresített gyűjtőedényt\, reggel 5 óráig kell kihelyezni a házak elé.
URL:https://torony.hu/esemeny/szelektiv-hulladekszallitas-10/
LOCATION:Torony (település)\, Torony\, 9791\, HU
CATEGORIES:Hulladékszállítás
ATTACH;FMTTYPE=image/jpeg:https://torony.hu/wp-content/uploads/2025/02/szelektiv-hulladekgyujtes.jpg
END:VEVENT
BEGIN:VEVENT
DTSTART;VALUE=DATE:20260720
DTEND;VALUE=DATE:20260721
DTSTAMP:20260421T040550
CREATED:20251218T132902Z
LAST-MODIFIED:20251218T132920Z
UID:18868-1784505600-1784591999@torony.hu
SUMMARY:Zöldhulladék gyűjtés
DESCRIPTION:Zöldhulladék gyűjtésbe tartozó anyagok: Az ingatlanoknál keletkező falevél\, fűnyesedék\, gyom. A gyűjtés részleteiről\, valamint a kihelyezhető hulladékok pontos listájáról bővebb információt a www.stkh.hu weboldalon\, a „Zöldhulladék-gyűjtés” menüpont alatt tekinthetik meg.
URL:https://torony.hu/esemeny/zoldhulladek-gyujtes-11/
LOCATION:Torony (település)\, Torony\, 9791\, HU
CATEGORIES:Hulladékszállítás
ATTACH;FMTTYPE=image/jpeg:https://torony.hu/wp-content/uploads/2025/06/Zoldhulladek-szallitas.jpg
END:VEVENT
BEGIN:VEVENT
DTSTART;VALUE=DATE:20260810
DTEND;VALUE=DATE:20260811
DTSTAMP:20260421T040550
CREATED:20251218T123824Z
LAST-MODIFIED:20251218T130059Z
UID:18759-1786320000-1786406399@torony.hu
SUMMARY:Szelektív hulladékszállítás
DESCRIPTION:Az STKH Sopron és Térsége Környezetvédelmi és Hulladékgazdálkodási Nonprofit Kft. közlése szerint augusztus 10-én\, hétfőn lesz Toronyban az aktuális hónapban esedékes szelektívhulladék-gyűjtési nap. \nEzen a napon a szelektív módon gyűjtött hulladékkal teljesen megtöltött zsákokat bekötve\, vagy az erre a célra rendszeresített gyűjtőedényt\, reggel 5 óráig kell kihelyezni a házak elé.
URL:https://torony.hu/esemeny/szelektiv-hulladekszallitas-11/
LOCATION:Torony (település)\, Torony\, 9791\, HU
CATEGORIES:Hulladékszállítás
ATTACH;FMTTYPE=image/jpeg:https://torony.hu/wp-content/uploads/2025/02/szelektiv-hulladekgyujtes.jpg
END:VEVENT
BEGIN:VEVENT
DTSTART;VALUE=DATE:20260817
DTEND;VALUE=DATE:20260818
DTSTAMP:20260421T040550
CREATED:20251218T133051Z
LAST-MODIFIED:20251218T133119Z
UID:18878-1786924800-1787011199@torony.hu
SUMMARY:Zöldhulladék gyűjtés
DESCRIPTION:Zöldhulladék gyűjtésbe tartozó anyagok: Az ingatlanoknál keletkező falevél\, fűnyesedék\, gyom. A gyűjtés részleteiről\, valamint a kihelyezhető hulladékok pontos listájáról bővebb információt a www.stkh.hu weboldalon\, a „Zöldhulladék-gyűjtés” menüpont alatt tekinthetik meg.
URL:https://torony.hu/esemeny/zoldhulladek-gyujtes-12/
LOCATION:Torony (település)\, Torony\, 9791\, HU
CATEGORIES:Hulladékszállítás
ATTACH;FMTTYPE=image/jpeg:https://torony.hu/wp-content/uploads/2025/06/Zoldhulladek-szallitas.jpg
END:VEVENT
BEGIN:VEVENT
DTSTART;VALUE=DATE:20260914
DTEND;VALUE=DATE:20260915
DTSTAMP:20260421T040550
CREATED:20251218T123959Z
LAST-MODIFIED:20251218T130045Z
UID:18771-1789344000-1789430399@torony.hu
SUMMARY:Szelektív hulladékszállítás
DESCRIPTION:Az STKH Sopron és Térsége Környezetvédelmi és Hulladékgazdálkodási Nonprofit Kft. közlése szerint szeptember 14-én\, hétfőn lesz Toronyban az aktuális hónapban esedékes szelektívhulladék-gyűjtési nap. \nEzen a napon a szelektív módon gyűjtött hulladékkal teljesen megtöltött zsákokat bekötve\, vagy az erre a célra rendszeresített gyűjtőedényt\, reggel 5 óráig kell kihelyezni a házak elé.
URL:https://torony.hu/esemeny/szelektiv-hulladekszallitas-11-2/
LOCATION:Torony (település)\, Torony\, 9791\, HU
CATEGORIES:Hulladékszállítás
ATTACH;FMTTYPE=image/jpeg:https://torony.hu/wp-content/uploads/2025/02/szelektiv-hulladekgyujtes.jpg
END:VEVENT
BEGIN:VEVENT
DTSTART;VALUE=DATE:20260921
DTEND;VALUE=DATE:20260922
DTSTAMP:20260421T040550
CREATED:20251218T133237Z
LAST-MODIFIED:20251218T133237Z
UID:18889-1789948800-1790035199@torony.hu
SUMMARY:Zöldhulladék gyűjtés
DESCRIPTION:Zöldhulladék gyűjtésbe tartozó anyagok: Az ingatlanoknál keletkező falevél\, fűnyesedék\, gyom. A gyűjtés részleteiről\, valamint a kihelyezhető hulladékok pontos listájáról bővebb információt a www.stkh.hu weboldalon\, a „Zöldhulladék-gyűjtés” menüpont alatt tekinthetik meg.
URL:https://torony.hu/esemeny/zoldhulladek-gyujtes-13/
LOCATION:Torony (település)\, Torony\, 9791\, HU
CATEGORIES:Hulladékszállítás
ATTACH;FMTTYPE=image/jpeg:https://torony.hu/wp-content/uploads/2025/06/Zoldhulladek-szallitas.jpg
END:VEVENT
BEGIN:VEVENT
DTSTART;VALUE=DATE:20261012
DTEND;VALUE=DATE:20261013
DTSTAMP:20260421T040550
CREATED:20251218T124118Z
LAST-MODIFIED:20251218T130030Z
UID:18784-1791763200-1791849599@torony.hu
SUMMARY:Szelektív hulladékszállítás
DESCRIPTION:Az STKH Sopron és Térsége Környezetvédelmi és Hulladékgazdálkodási Nonprofit Kft. közlése szerint október 12-én\, hétfőn lesz Toronyban az aktuális hónapban esedékes szelektívhulladék-gyűjtési nap. \nEzen a napon a szelektív módon gyűjtött hulladékkal teljesen megtöltött zsákokat bekötve\, vagy az erre a célra rendszeresített gyűjtőedényt\, reggel 5 óráig kell kihelyezni a házak elé.
URL:https://torony.hu/esemeny/szelektiv-hulladekszallitas-12/
LOCATION:Torony (település)\, Torony\, 9791\, HU
CATEGORIES:Hulladékszállítás
ATTACH;FMTTYPE=image/jpeg:https://torony.hu/wp-content/uploads/2025/02/szelektiv-hulladekgyujtes.jpg
END:VEVENT
BEGIN:VEVENT
DTSTART;VALUE=DATE:20261019
DTEND;VALUE=DATE:20261020
DTSTAMP:20260421T040550
CREATED:20251218T133344Z
LAST-MODIFIED:20251218T133344Z
UID:18901-1792368000-1792454399@torony.hu
SUMMARY:Zöldhulladék gyűjtés
DESCRIPTION:Zöldhulladék gyűjtésbe tartozó anyagok: Az ingatlanoknál keletkező falevél\, fűnyesedék\, gyom. A gyűjtés részleteiről\, valamint a kihelyezhető hulladékok pontos listájáról bővebb információt a www.stkh.hu weboldalon\, a „Zöldhulladék-gyűjtés” menüpont alatt tekinthetik meg.
URL:https://torony.hu/esemeny/zoldhulladek-gyujtes-13-2/
LOCATION:Torony (település)\, Torony\, 9791\, HU
CATEGORIES:Hulladékszállítás
ATTACH;FMTTYPE=image/jpeg:https://torony.hu/wp-content/uploads/2025/06/Zoldhulladek-szallitas.jpg
END:VEVENT
BEGIN:VEVENT
DTSTART;VALUE=DATE:20261109
DTEND;VALUE=DATE:20261110
DTSTAMP:20260421T040550
CREATED:20251218T124343Z
LAST-MODIFIED:20251218T130017Z
UID:18798-1794182400-1794268799@torony.hu
SUMMARY:Szelektív hulladékszállítás
DESCRIPTION:Az STKH Sopron és Térsége Környezetvédelmi és Hulladékgazdálkodási Nonprofit Kft. közlése szerint november 9-én\, hétfőn lesz Toronyban az aktuális hónapban esedékes szelektívhulladék-gyűjtési nap. \nEzen a napon a szelektív módon gyűjtött hulladékkal teljesen megtöltött zsákokat bekötve\, vagy az erre a célra rendszeresített gyűjtőedényt\, reggel 5 óráig kell kihelyezni a házak elé.
URL:https://torony.hu/esemeny/szelektiv-hulladekszallitas-13/
LOCATION:Torony (település)\, Torony\, 9791\, HU
CATEGORIES:Hulladékszállítás
ATTACH;FMTTYPE=image/jpeg:https://torony.hu/wp-content/uploads/2025/02/szelektiv-hulladekgyujtes.jpg
END:VEVENT
BEGIN:VEVENT
DTSTART;VALUE=DATE:20261214
DTEND;VALUE=DATE:20261215
DTSTAMP:20260421T040550
CREATED:20251218T124519Z
LAST-MODIFIED:20251218T130004Z
UID:18812-1797206400-1797292799@torony.hu
SUMMARY:Szelektív hulladékszállítás
DESCRIPTION:Az STKH Sopron és Térsége Környezetvédelmi és Hulladékgazdálkodási Nonprofit Kft. közlése szerint december 14-én\, hétfőn lesz Toronyban az aktuális hónapban esedékes szelektívhulladék-gyűjtési nap. \nEzen a napon a szelektív módon gyűjtött hulladékkal teljesen megtöltött zsákokat bekötve\, vagy az erre a célra rendszeresített gyűjtőedényt\, reggel 5 óráig kell kihelyezni a házak elé.
URL:https://torony.hu/esemeny/szelektiv-hulladekszallitas-14/
LOCATION:Torony (település)\, Torony\, 9791\, HU
CATEGORIES:Hulladékszállítás
ATTACH;FMTTYPE=image/jpeg:https://torony.hu/wp-content/uploads/2025/02/szelektiv-hulladekgyujtes.jpg
END:VEVENT
END:VCALENDAR