BEGIN:VCALENDAR
VERSION:2.0
PRODID:-//Torony Község Weboldala - ECPv6.15.16//NONSGML v1.0//EN
CALSCALE:GREGORIAN
METHOD:PUBLISH
X-WR-CALNAME:Torony Község Weboldala
X-ORIGINAL-URL:https://torony.hu
X-WR-CALDESC:Események Torony Község Weboldala
REFRESH-INTERVAL;VALUE=DURATION:PT1H
X-Robots-Tag:noindex
X-PUBLISHED-TTL:PT1H
BEGIN:VTIMEZONE
TZID:UTC
BEGIN:STANDARD
TZOFFSETFROM:+0000
TZOFFSETTO:+0000
TZNAME:UTC
DTSTART:20250101T000000
END:STANDARD
END:VTIMEZONE
BEGIN:VEVENT
DTSTART;VALUE=DATE:20260420
DTEND;VALUE=DATE:20260421
DTSTAMP:20260420T155834
CREATED:20251218T132214Z
LAST-MODIFIED:20251218T132214Z
UID:18844-1776643200-1776729599@torony.hu
SUMMARY:Zöldhulladék gyűjtés
DESCRIPTION:Zöldhulladék gyűjtésbe tartozó anyagok: Az ingatlanoknál keletkező falevél\, fűnyesedék\, gyom. A gyűjtés részleteiről\, valamint a kihelyezhető hulladékok pontos listájáról bővebb információt a www.stkh.hu weboldalon\, a „Zöldhulladék-gyűjtés” menüpont alatt tekinthetik meg.
URL:https://torony.hu/esemeny/zoldhulladek-gyujtes-8/
LOCATION:Torony (település)\, Torony\, 9791\, HU
CATEGORIES:Hulladékszállítás
ATTACH;FMTTYPE=image/jpeg:https://torony.hu/wp-content/uploads/2025/06/Zoldhulladek-szallitas.jpg
END:VEVENT
END:VCALENDAR